BEGIN:VCALENDAR
VERSION:2.0
PRODID:-//Squarespace Inc/Squarespace 6//v6//EN
BEGIN:VEVENT
UID:5d832f203d971d6aabfe6638@squarespace.com
DTSTAMP:20190919T073423Z
DTSTART:20200218T080000Z
DTEND:20200229T090000Z
SUMMARY:Adelaide Fringe Festival
GEO:-34.928499;138.600746
LOCATION:Nexus Arts\, Lion Arts Centre\; Corner North Terrace & Morphett St
 \, Adelaide
END:VEVENT
END:VCALENDAR
