BEGIN:VCALENDAR
VERSION:2.0
PRODID:-//Squarespace Inc/Squarespace 6//v6//EN
BEGIN:VEVENT
UID:5cd8b9b8f9619ad864009ca8@squarespace.com
DTSTAMP:20190513T002942Z
DTSTART:20190513T003000Z
DTEND:20190513T013000Z
SUMMARY:Pink Noise
GEO:-16.918881;145.772278
LOCATION:Screen Culture Club\, 14 Florence Street\, Cairns\, Australia
END:VEVENT
END:VCALENDAR
