BEGIN:VCALENDAR
VERSION:2.0
PRODID:-//Squarespace Inc/Squarespace 6//v6//EN
BEGIN:VEVENT
UID:5c735ea3e79c704c50cba152@squarespace.com
DTSTAMP:20190404T042808Z
DTSTART:20190413T033000Z
DTEND:20190414T043000Z
SUMMARY:Shivoo Stock
GEO:-37.993588;146.34571
LOCATION:Caringal\, Victoria
END:VEVENT
END:VCALENDAR
