BEGIN:VCALENDAR
VERSION:2.0
PRODID:-//Squarespace Inc/Squarespace 6//v6//EN
BEGIN:VEVENT
UID:5c5d0028652dea1f4a536b1d@squarespace.com
DTSTAMP:20190225T031844Z
DTSTART:20190308T053000Z
DTEND:20190308T210000Z
SUMMARY:Tegan Koster Project and The Ironing Maidens - The Tanks Cairns - I
 WD
GEO:-16.918551;145.778055
LOCATION:the tanks\, Cairns\, Australia
END:VEVENT
END:VCALENDAR
