BEGIN:VCALENDAR
VERSION:2.0
PRODID:-//Squarespace Inc/Squarespace 6//v6//EN
BEGIN:VEVENT
UID:5c5cffc5ec212ddfa7d20a54@squarespace.com
DTSTAMP:20190208T040552Z
DTSTART:20190308T063000Z
DTEND:20190308T083000Z
SUMMARY:2019 IWD Breakfast Cairns Regional Council.
GEO:-16.918551;145.778055
LOCATION:pullman\, Cairns\, Australia
END:VEVENT
END:VCALENDAR
