BEGIN:VCALENDAR
VERSION:2.0
PRODID:-//Squarespace Inc/Squarespace 6//v6//EN
BEGIN:VEVENT
UID:5c99a0ccf4e1fca0d016fecb@squarespace.com
DTSTAMP:20190326T035017Z
DTSTART:20190330T150000Z
DTEND:20190330T170000Z
SUMMARY:Brisbane - Curiocity
END:VEVENT
END:VCALENDAR
