BEGIN:VCALENDAR
VERSION:2.0
PRODID:-//Squarespace Inc/Squarespace 6//v6//EN
BEGIN:VEVENT
UID:5c5d00eef4e1fc72e6581739@squarespace.com
DTSTAMP:20190208T041101Z
DTSTART:20190207T200000Z
DTEND:20190207T210000Z
SUMMARY:Composers of the Future Workshops - Tanks Cairns
GEO:31.721995;-96.180051
LOCATION:The Tanks\, Cairns\, Australia
END:VEVENT
END:VCALENDAR
