BEGIN:VCALENDAR
VERSION:2.0
PRODID:-//Squarespace Inc/Squarespace 6//v6//EN
BEGIN:VEVENT
UID:5c526ec3562fa7e1fa9d4cda@squarespace.com
DTSTAMP:20190131T034524Z
DTSTART:20190215T180000Z
DTEND:20190216T210000Z
SUMMARY:Adelaide Fringe Festival
GEO:-34.90632;138.608313
LOCATION:melbourne street laundromat\, 80 Melbourne Street\, North Adelaide
 \, SA\, 5006\, Australia
END:VEVENT
END:VCALENDAR
