BEGIN:VCALENDAR
VERSION:2.0
PRODID:-//Squarespace Inc/Squarespace 6//v6//EN
BEGIN:VEVENT
UID:5d832eb23b530747df0c2299@squarespace.com
DTSTAMP:20190919T073238Z
DTSTART:20191003T080000Z
DTEND:20191007T090000Z
SUMMARY:Arts Ablaze
GEO:-28.075061;152.836761
LOCATION:Ramada Resort\, Kooralbyn Valley\, Australia
END:VEVENT
END:VCALENDAR
