BEGIN:VCALENDAR
VERSION:2.0
PRODID:-//Squarespace Inc/Squarespace 6//v6//EN
BEGIN:VEVENT
UID:5b9dc5c1f950b7ed4b8fe43e@squarespace.com
DTSTAMP:20180916T030129Z
DTSTART:20180831T030000Z
DTEND:20180902T040000Z
SUMMARY:Valley Fiesta Brisbane
GEO:-27.459055;153.032235
LOCATION:central services laundromat\, 129 Wickham Street\, Fortitude Valle
 y\, QLD\, 4006\, Australia
END:VEVENT
END:VCALENDAR
