BEGIN:VCALENDAR
VERSION:2.0
PRODID:-//Squarespace Inc/Squarespace 6//v6//EN
BEGIN:VEVENT
UID:5bc7bba5f9619ac358772e49@squarespace.com
DTSTAMP:20181017T224712Z
DTSTART:20181226T230000Z
DTEND:20190102T000000Z
SUMMARY:Wood Ford Folk Festival
GEO:-26.955;152.778
LOCATION:woodford folk festival\, Woodford\, Australia
END:VEVENT
END:VCALENDAR
