BEGIN:VCALENDAR
VERSION:2.0
PRODID:-//Squarespace Inc/Squarespace 6//v6//EN
BEGIN:VEVENT
UID:5b9dcc4d0ebbe88cd4f3f095@squarespace.com
DTSTAMP:20180916T032242Z
DTSTART:20181129T033000Z
DTEND:20181201T043000Z
SUMMARY:Jungle Love
END:VEVENT
END:VCALENDAR
