BEGIN:VCALENDAR
VERSION:2.0
PRODID:-//Squarespace Inc/Squarespace 6//v6//EN
BEGIN:VEVENT
UID:5b9dcc040e2e72b0968cfd43@squarespace.com
DTSTAMP:20181017T224741Z
DTSTART:20181117T033000Z
DTEND:20181118T043000Z
SUMMARY:Shivoo Stock- cancelled and rescheduled for April 2019
END:VEVENT
END:VCALENDAR
