BEGIN:VCALENDAR
VERSION:2.0
PRODID:-//Squarespace Inc/Squarespace 6//v6//EN
BEGIN:VEVENT
UID:5b9dcbb60e2e72b0968cfa90@squarespace.com
DTSTAMP:20180916T032021Z
DTSTART:20181026T033000Z
DTEND:20181028T053000Z
SUMMARY:Tablelands Folk Festival
END:VEVENT
END:VCALENDAR
