BEGIN:VCALENDAR
VERSION:2.0
PRODID:-//Squarespace Inc/Squarespace 6//v6//EN
BEGIN:VEVENT
UID:5b9dcb0470a6ad3a541c198f@squarespace.com
DTSTAMP:20180916T031848Z
DTSTART:20181020T033000Z
DTEND:20181020T043000Z
SUMMARY:Solar Fx
GEO:-23.636675;150.386584
LOCATION:glen gordon\, queensland
END:VEVENT
END:VCALENDAR
