BEGIN:VCALENDAR
VERSION:2.0
PRODID:-//Squarespace Inc/Squarespace 6//v6//EN
BEGIN:VEVENT
UID:5b9dc6c5575d1fafdc3741a2@squarespace.com
DTSTAMP:20180916T030100Z
DTSTART:20181014T090000Z
DTEND:20181014T100000Z
SUMMARY:Cairns Pride Fair Day
GEO:-16.898969;145.750885
LOCATION:The Tanks\, 46 Collins Avenue\, Edge Hill\, Australia
END:VEVENT
END:VCALENDAR
